BEGIN:VCALENDAR
VERSION:2.0
PRODID:-//Lab.cafe - ECPv6.15.17//NONSGML v1.0//EN
CALSCALE:GREGORIAN
METHOD:PUBLISH
X-ORIGINAL-URL:https://lab.cafe
X-WR-CALDESC:Udalosti pre Lab.cafe
REFRESH-INTERVAL;VALUE=DURATION:PT1H
X-Robots-Tag:noindex
X-PUBLISHED-TTL:PT1H
BEGIN:VTIMEZONE
TZID:Europe/Bratislava
BEGIN:DAYLIGHT
TZOFFSETFROM:+0100
TZOFFSETTO:+0200
TZNAME:CEST
DTSTART:20250330T010000
END:DAYLIGHT
BEGIN:STANDARD
TZOFFSETFROM:+0200
TZOFFSETTO:+0100
TZNAME:CET
DTSTART:20251026T010000
END:STANDARD
BEGIN:DAYLIGHT
TZOFFSETFROM:+0100
TZOFFSETTO:+0200
TZNAME:CEST
DTSTART:20260329T010000
END:DAYLIGHT
BEGIN:STANDARD
TZOFFSETFROM:+0200
TZOFFSETTO:+0100
TZNAME:CET
DTSTART:20261025T010000
END:STANDARD
BEGIN:DAYLIGHT
TZOFFSETFROM:+0100
TZOFFSETTO:+0200
TZNAME:CEST
DTSTART:20270328T010000
END:DAYLIGHT
BEGIN:STANDARD
TZOFFSETFROM:+0200
TZOFFSETTO:+0100
TZNAME:CET
DTSTART:20271031T010000
END:STANDARD
END:VTIMEZONE
BEGIN:VEVENT
DTSTART;TZID=Europe/Bratislava:20260419T093000
DTEND;TZID=Europe/Bratislava:20260419T123000
DTSTAMP:20260426T060054
CREATED:20260227T182540Z
LAST-MODIFIED:20260417T102226Z
UID:43749-1776591000-1776601800@lab.cafe
SUMMARY:Malí architekti - workshop
DESCRIPTION:[vc_row css_animation=““ row_type=“row“ use_row_as_full_screen_section=“no“ type=“full_width“ angled_section=“no“ text_align=“left“ background_image_as_pattern=“without_pattern“][vc_column width=“3/4″][vc_column_text]Budete spolu tvoriť\, premýšľať\, radiť sa a kombinovať o sto šesť!  Na konci si domov odnesiete miniatúru vysnívaného domu\, ktorý si sami navrhnete! \nObklopení 3D tlačiarňami\, laserom\, plotterom\, heatpressom a ďalšími strojmi\, ktoré sa bežne používajú v dizajne a architektúre\, si zrazu budete vedieť predstaviť\, ako vznikajú presné výrezy stien\, modely domov a rôzne iné prototypy. \n  \nČO VÁS NA WORKSHOPE ČAKÁ? \n\nobrovské množstvo materiálov a strojov na tvorenie najmenších detailov\nposkladáte si unikátnu konštrukciu vášho vysnívaného domu\nbudete maľovať alebo tapetovať steny a vymýšľať\, kde budú okná a aké chcete podlahy\nvyrobíte originálny mini nábytok ako stôl\, posteľ a poličky\nnebudú chýbať ani textílie na koberce\, hojdačky\, či záclony\nmôžete si vytvoriť záhradu zo stabilizovaného lišajníka a bazén snov\nnaučíte sa pracovať s 3D perom a vytvoríte detaily ako lampy\, zábradlia\,  a dekorácie\n\n  \nMožno vašimi rukami vznikne moderná vila\, lesná chalúpka\, dom na strome\, bláznivý dom so špirálovou strechou alebo mega moderné bývanie s obrovskou hojdačkou cez všetky poschodia so šmykľavkou k susedom.  \nA to je na tom to najlepšie! Tu sa fantázii medze nekladú! \n  \nČasté otázky  \nMusím si priniesť niečo so sebou?  \nNemusíš si so sebou nič nosiť\, všetky potrebné materiály budú zabezpečené na mieste. \nKde sa nachádzajú priestory vašej dielne? \nDielňu nájdeš podľa veľkých zelených dverí\, rovno vedľa našej kaviarne Lab.cafe. Zídeš dolu schodmi\, odbočíš doľava a si tam. \nJe workshop vhodný aj pre deti?  \nWorkshop odporúčame pre deti od 6 rokov. \nPozor\, počet miest je limitovaný! \nZarezervujte si miesto čím skôr.[/vc_column_text][vc_empty_space][vc_gallery type=“image_grid“ images=“43752\,43753\,43754″ column_number=“3″ grayscale=“no“ images_space=“gallery_without_space“][/vc_column][vc_column width=“1/4″]Kúpiť lístkyChcem vlastné podujatie na mieru[vc_separator type=“normal“]\n           \n            \n            \n            \n            \n                \n                    \n                        Nevyhovuje ti termín\, alebo ti ušiel tento event?\n                        Nechaj nám svoj kontakt a nezmeškáš info o ďalšom termíne.  \n                        \n                            \n                            \n\n    \n        \n        Chcem dostávať aj pravidelný newsletter\n    \n\n\n                        \n            \n                        \n                            \n                            \n                            \n                        \n                        \n                    \n                \n            \n\n[/vc_column][/vc_row]
URL:https://lab.cafe/podujatia/mali-architekti-workshop/2026-04-19/
LOCATION:Lab.cafe\, Námestie SNP 25\, Bratislava\, 81101\, Slovenská republika
CATEGORIES:workshop
ATTACH;FMTTYPE=image/png:https://lab.cafe/wp-content/uploads/2026/02/COVERY-VSETKY-42.png
ORGANIZER;CN="Lab.cafe":MAILTO:veronika@lab.cafe
GEO:48.1445678;17.1116631
X-APPLE-STRUCTURED-LOCATION;VALUE=URI;X-ADDRESS=Lab.cafe Námestie SNP 25 Bratislava 81101 Slovenská republika;X-APPLE-RADIUS=500;X-TITLE=Námestie SNP 25:geo:17.1116631,48.1445678
END:VEVENT
END:VCALENDAR